BEGIN:VCALENDAR
VERSION:2.0
PRODID:-//Plone.org//NONSGML plone.app.event//EN
X-WR-TIMEZONE:Europe/Madrid
BEGIN:VEVENT
SUMMARY:Itinerari: Circuit Pinetons
DTSTART;TZID=Europe/Madrid;VALUE=DATE-TIME:20120513T000000
DTEND;TZID=Europe/Madrid;VALUE=DATE-TIME:20120513T235959
DTSTAMP;VALUE=DATE-TIME:20260423T170834Z
UID:989afdc09a154f109ac784630dbb7068@www.molletvalles.cat
CATEGORIES:Deportes
CREATED;VALUE=DATE-TIME:20111006T115532Z
LAST-MODIFIED;VALUE=DATE-TIME:20221221T221452Z
LOCATION:Pl. Prat de la Riba (sortida)
URL:https://www.molletvalles.cat/es/actualidad/agenda/12721
END:VEVENT
BEGIN:VTIMEZONE
TZID:Europe/Madrid
X-LIC-LOCATION:Europe/Madrid
BEGIN:DAYLIGHT
DTSTART;VALUE=DATE-TIME:20120325T030000
TZNAME:CEST
TZOFFSETFROM:+0100
TZOFFSETTO:+0200
END:DAYLIGHT
END:VTIMEZONE
END:VCALENDAR
