BEGIN:VCALENDAR
VERSION:2.0
PRODID:-//Plone.org//NONSGML plone.app.event//EN
X-WR-TIMEZONE:Europe/Madrid
BEGIN:VEVENT
SUMMARY:Lectura del Manifest del Dia Internacional per l'eliminació de la
  violència envers les dones
DTSTART;TZID=Europe/Madrid;VALUE=DATE-TIME:20111125T000000
DTEND;TZID=Europe/Madrid;VALUE=DATE-TIME:20111125T235959
DTSTAMP;VALUE=DATE-TIME:20260425T161930Z
UID:bbe25f8e376f4345af87d44a64c09198@www.molletvalles.cat
CATEGORIES:Actos institucionales
CREATED;VALUE=DATE-TIME:20111115T114329Z
LAST-MODIFIED;VALUE=DATE-TIME:20221221T221546Z
LOCATION:Plaça Major
URL:https://www.molletvalles.cat/es/actualidad/agenda/12824
END:VEVENT
BEGIN:VTIMEZONE
TZID:Europe/Madrid
X-LIC-LOCATION:Europe/Madrid
BEGIN:STANDARD
DTSTART;VALUE=DATE-TIME:20111030T020000
TZNAME:CET
TZOFFSETFROM:+0200
TZOFFSETTO:+0100
END:STANDARD
END:VTIMEZONE
END:VCALENDAR
