BEGIN:VCALENDAR
VERSION:2.0
PRODID:-//Plone.org//NONSGML plone.app.event//EN
X-WR-TIMEZONE:Europe/Madrid
BEGIN:VEVENT
SUMMARY:Lliurament de premis del concurs de dibuix de Nadal
DTSTART;TZID=Europe/Madrid;VALUE=DATE-TIME:20111216T000000
DTEND;TZID=Europe/Madrid;VALUE=DATE-TIME:20111216T235959
DTSTAMP;VALUE=DATE-TIME:20260425T124604Z
UID:9afa2927051b40b58ec7288075258107@www.molletvalles.cat
CATEGORIES:Concursos y premios
CREATED;VALUE=DATE-TIME:20111130T113615Z
LAST-MODIFIED;VALUE=DATE-TIME:20221221T221611Z
URL:https://www.molletvalles.cat/es/actualidad/agenda/12856
END:VEVENT
BEGIN:VTIMEZONE
TZID:Europe/Madrid
X-LIC-LOCATION:Europe/Madrid
BEGIN:STANDARD
DTSTART;VALUE=DATE-TIME:20111030T020000
TZNAME:CET
TZOFFSETFROM:+0200
TZOFFSETTO:+0100
END:STANDARD
END:VTIMEZONE
END:VCALENDAR
