BEGIN:VCALENDAR
VERSION:2.0
PRODID:-//Plone.org//NONSGML plone.app.event//EN
X-WR-TIMEZONE:Europe/Madrid
BEGIN:VEVENT
SUMMARY:Visita comentada a l’exposició de la Fundació Joan Miró: "Joa
 n Miró. L'escala de l'evasió"
DTSTART;TZID=Europe/Madrid;VALUE=DATE-TIME:20120128T000000
DTEND;TZID=Europe/Madrid;VALUE=DATE-TIME:20120128T235959
DTSTAMP;VALUE=DATE-TIME:20260425T124611Z
UID:bccc046ffa8745a0b075fe5244d2095a@www.molletvalles.cat
CATEGORIES:Exposiciones y ferias
CREATED;VALUE=DATE-TIME:20120111T085818Z
LAST-MODIFIED;VALUE=DATE-TIME:20221221T221753Z
LOCATION:Fundació Miró (parc de Montjuic\, Barcelona)
URL:https://www.molletvalles.cat/es/actualidad/agenda/12926
END:VEVENT
BEGIN:VTIMEZONE
TZID:Europe/Madrid
X-LIC-LOCATION:Europe/Madrid
BEGIN:STANDARD
DTSTART;VALUE=DATE-TIME:20111030T020000
TZNAME:CET
TZOFFSETFROM:+0200
TZOFFSETTO:+0100
END:STANDARD
END:VTIMEZONE
END:VCALENDAR
