BEGIN:VCALENDAR
VERSION:2.0
PRODID:-//Plone.org//NONSGML plone.app.event//EN
X-WR-TIMEZONE:Europe/Madrid
BEGIN:VEVENT
SUMMARY:Activitat infantil: L'explosivisme de Joan Abelló
DTSTART;TZID=Europe/Madrid;VALUE=DATE-TIME:20120318T000000
DTEND;TZID=Europe/Madrid;VALUE=DATE-TIME:20120318T235959
DTSTAMP;VALUE=DATE-TIME:20260421T174536Z
UID:019e6b133c4b45a6b9989bab3b4ccc8c@www.molletvalles.cat
CATEGORIES:Infantiles
CREATED;VALUE=DATE-TIME:20120224T082139Z
LAST-MODIFIED;VALUE=DATE-TIME:20221221T222401Z
URL:https://www.molletvalles.cat/es/actualidad/agenda/13058
END:VEVENT
BEGIN:VTIMEZONE
TZID:Europe/Madrid
X-LIC-LOCATION:Europe/Madrid
BEGIN:STANDARD
DTSTART;VALUE=DATE-TIME:20111030T020000
TZNAME:CET
TZOFFSETFROM:+0200
TZOFFSETTO:+0100
END:STANDARD
END:VTIMEZONE
END:VCALENDAR
