BEGIN:VCALENDAR
VERSION:2.0
PRODID:-//Plone.org//NONSGML plone.app.event//EN
X-WR-TIMEZONE:Europe/Madrid
BEGIN:VEVENT
SUMMARY:6a Mostra Internacional de Titelles 2012: Cal Titella (Espai lúdi
 c i de creació amb titelles per a infants)
DTSTART;TZID=Europe/Madrid;VALUE=DATE-TIME:20120415T000000
DTEND;TZID=Europe/Madrid;VALUE=DATE-TIME:20120415T235959
DTSTAMP;VALUE=DATE-TIME:20260419T164203Z
UID:5afd5a60ea444ca68ba3d274a272673a@www.molletvalles.cat
CATEGORIES:Música\, cine y espectáculos
CREATED;VALUE=DATE-TIME:20120402T073903Z
LAST-MODIFIED;VALUE=DATE-TIME:20221221T223053Z
URL:https://www.molletvalles.cat/es/actualidad/agenda/13196
END:VEVENT
BEGIN:VTIMEZONE
TZID:Europe/Madrid
X-LIC-LOCATION:Europe/Madrid
BEGIN:DAYLIGHT
DTSTART;VALUE=DATE-TIME:20120325T030000
TZNAME:CEST
TZOFFSETFROM:+0100
TZOFFSETTO:+0200
END:DAYLIGHT
END:VTIMEZONE
END:VCALENDAR
