BEGIN:VCALENDAR
VERSION:2.0
PRODID:-//Plone.org//NONSGML plone.app.event//EN
X-WR-TIMEZONE:Europe/Madrid
BEGIN:VEVENT
SUMMARY:Festa Major 2012: La Nit de les Colles amb Universal Rockers\, The
  Murphies i Dr. Calypso
DTSTART;TZID=Europe/Madrid;VALUE=DATE-TIME:20120817T000000
DTEND;TZID=Europe/Madrid;VALUE=DATE-TIME:20120817T235959
DTSTAMP;VALUE=DATE-TIME:20260419T181813Z
UID:ab6407c0f8cb484d9ec3c08e97d4a45d@www.molletvalles.cat
CATEGORIES:Fiestas populares
CREATED;VALUE=DATE-TIME:20120712T084511Z
LAST-MODIFIED;VALUE=DATE-TIME:20221221T224453Z
LOCATION:Parc de Can Mulà
URL:https://www.molletvalles.cat/es/actualidad/agenda/13452
END:VEVENT
BEGIN:VTIMEZONE
TZID:Europe/Madrid
X-LIC-LOCATION:Europe/Madrid
BEGIN:DAYLIGHT
DTSTART;VALUE=DATE-TIME:20120325T030000
TZNAME:CEST
TZOFFSETFROM:+0100
TZOFFSETTO:+0200
END:DAYLIGHT
END:VTIMEZONE
END:VCALENDAR
