BEGIN:VCALENDAR
VERSION:2.0
PRODID:-//Plone.org//NONSGML plone.app.event//EN
X-WR-TIMEZONE:Europe/Madrid
BEGIN:VEVENT
SUMMARY:Cinefòrum. Cicle de cinema social: Nosotros alimentamos el mundo
DTSTART;TZID=Europe/Madrid;VALUE=DATE-TIME:20121111T000000
DTEND;TZID=Europe/Madrid;VALUE=DATE-TIME:20121111T235959
DTSTAMP;VALUE=DATE-TIME:20260421T174249Z
UID:85fcbf7773f541f789e0582cf766ea06@www.molletvalles.cat
CATEGORIES:Música\, cine y espectáculos
CREATED;VALUE=DATE-TIME:20121009T082312Z
LAST-MODIFIED;VALUE=DATE-TIME:20221221T225312Z
URL:https://www.molletvalles.cat/es/actualidad/agenda/13642
END:VEVENT
BEGIN:VTIMEZONE
TZID:Europe/Madrid
X-LIC-LOCATION:Europe/Madrid
BEGIN:STANDARD
DTSTART;VALUE=DATE-TIME:20121028T020000
TZNAME:CET
TZOFFSETFROM:+0200
TZOFFSETTO:+0100
END:STANDARD
END:VTIMEZONE
END:VCALENDAR
