BEGIN:VCALENDAR
VERSION:2.0
PRODID:-//Plone.org//NONSGML plone.app.event//EN
X-WR-TIMEZONE:Europe/Madrid
BEGIN:VEVENT
SUMMARY:Visual Marineta: Capacitats (2012)
DTSTART;TZID=Europe/Madrid;VALUE=DATE-TIME:20121213T000000
DTEND;TZID=Europe/Madrid;VALUE=DATE-TIME:20121213T235959
DTSTAMP;VALUE=DATE-TIME:20260425T124611Z
UID:038692294a38462c9c4fac32bdb4a06f@www.molletvalles.cat
CATEGORIES:Música\, cine y espectáculos
CREATED;VALUE=DATE-TIME:20121023T102735Z
LAST-MODIFIED;VALUE=DATE-TIME:20221221T225451Z
URL:https://www.molletvalles.cat/es/actualidad/agenda/13671
END:VEVENT
BEGIN:VTIMEZONE
TZID:Europe/Madrid
X-LIC-LOCATION:Europe/Madrid
BEGIN:STANDARD
DTSTART;VALUE=DATE-TIME:20121028T020000
TZNAME:CET
TZOFFSETFROM:+0200
TZOFFSETTO:+0100
END:STANDARD
END:VTIMEZONE
END:VCALENDAR
