BEGIN:VCALENDAR
VERSION:2.0
PRODID:-//Plone.org//NONSGML plone.app.event//EN
X-WR-TIMEZONE:Europe/Madrid
BEGIN:VEVENT
SUMMARY:Concert de Santa Cecília\, a càrrec de la Banda de Joves Músics
  de Mollet
DTSTART;TZID=Europe/Madrid;VALUE=DATE-TIME:20121124T000000
DTEND;TZID=Europe/Madrid;VALUE=DATE-TIME:20121124T235959
DTSTAMP;VALUE=DATE-TIME:20260423T105922Z
UID:a46337abd2fd4c25b33e57797d049bfa@www.molletvalles.cat
CATEGORIES:Música\, cine y espectáculos
CREATED;VALUE=DATE-TIME:20121105T110457Z
LAST-MODIFIED;VALUE=DATE-TIME:20221221T225620Z
URL:https://www.molletvalles.cat/es/actualidad/agenda/13708
END:VEVENT
BEGIN:VTIMEZONE
TZID:Europe/Madrid
X-LIC-LOCATION:Europe/Madrid
BEGIN:STANDARD
DTSTART;VALUE=DATE-TIME:20121028T020000
TZNAME:CET
TZOFFSETFROM:+0200
TZOFFSETTO:+0100
END:STANDARD
END:VTIMEZONE
END:VCALENDAR
