BEGIN:VCALENDAR
VERSION:2.0
PRODID:-//Plone.org//NONSGML plone.app.event//EN
X-WR-TIMEZONE:Europe/Madrid
BEGIN:VEVENT
SUMMARY:Exposició: La ciutat jubilada
DTSTART;TZID=Europe/Madrid;VALUE=DATE-TIME:20121116T000000
DTEND;TZID=Europe/Madrid;VALUE=DATE-TIME:20121116T235959
DTSTAMP;VALUE=DATE-TIME:20260419T164227Z
UID:798d98914bd74a8d85355879b36c0f60@www.molletvalles.cat
CATEGORIES:Exposiciones y ferias
CREATED;VALUE=DATE-TIME:20121112T105129Z
LAST-MODIFIED;VALUE=DATE-TIME:20221221T225745Z
LOCATION:Centre de Serveis per a Gent Gran El Lledoner\, fins al 31 de des
 embre
URL:https://www.molletvalles.cat/es/actualidad/agenda/13733
END:VEVENT
BEGIN:VTIMEZONE
TZID:Europe/Madrid
X-LIC-LOCATION:Europe/Madrid
BEGIN:STANDARD
DTSTART;VALUE=DATE-TIME:20121028T020000
TZNAME:CET
TZOFFSETFROM:+0200
TZOFFSETTO:+0100
END:STANDARD
END:VTIMEZONE
END:VCALENDAR
