BEGIN:VCALENDAR
VERSION:2.0
PRODID:-//Plone.org//NONSGML plone.app.event//EN
X-WR-TIMEZONE:Europe/Madrid
BEGIN:VEVENT
SUMMARY:Festa de la Castanyada del barri de Lourdes
DTSTART;TZID=Europe/Madrid;VALUE=DATE-TIME:20121124T000000
DTEND;TZID=Europe/Madrid;VALUE=DATE-TIME:20121124T235959
DTSTAMP;VALUE=DATE-TIME:20260423T170834Z
UID:318ef9532a5e47e59adf41cfdd3fe2a7@www.molletvalles.cat
CATEGORIES:Fiestas populares
CREATED;VALUE=DATE-TIME:20121119T105146Z
LAST-MODIFIED;VALUE=DATE-TIME:20221221T225853Z
LOCATION:Parc Rafael Alberti
URL:https://www.molletvalles.cat/es/actualidad/agenda/13755
END:VEVENT
BEGIN:VTIMEZONE
TZID:Europe/Madrid
X-LIC-LOCATION:Europe/Madrid
BEGIN:STANDARD
DTSTART;VALUE=DATE-TIME:20121028T020000
TZNAME:CET
TZOFFSETFROM:+0200
TZOFFSETTO:+0100
END:STANDARD
END:VTIMEZONE
END:VCALENDAR
