BEGIN:VCALENDAR
VERSION:2.0
PRODID:-//Plone.org//NONSGML plone.app.event//EN
X-WR-TIMEZONE:Europe/Madrid
BEGIN:VEVENT
SUMMARY:Hora del conte en anglès. Tale's time: "I want my Christmas prese
 nt!"
DTSTART;TZID=Europe/Madrid;VALUE=DATE-TIME:20131210T000000
DTEND;TZID=Europe/Madrid;VALUE=DATE-TIME:20131210T235959
DTSTAMP;VALUE=DATE-TIME:20260419T164206Z
UID:8e6c87f9955e4e2bad3e414636c956b1@www.molletvalles.cat
CATEGORIES:Infantiles
CREATED;VALUE=DATE-TIME:20131025T115204Z
LAST-MODIFIED;VALUE=DATE-TIME:20221221T234321Z
URL:https://www.molletvalles.cat/es/actualidad/agenda/14680
END:VEVENT
BEGIN:VTIMEZONE
TZID:Europe/Madrid
X-LIC-LOCATION:Europe/Madrid
BEGIN:STANDARD
DTSTART;VALUE=DATE-TIME:20131027T020000
TZNAME:CET
TZOFFSETFROM:+0200
TZOFFSETTO:+0100
END:STANDARD
END:VTIMEZONE
END:VCALENDAR
