BEGIN:VCALENDAR
VERSION:2.0
PRODID:-//Plone.org//NONSGML plone.app.event//EN
X-WR-TIMEZONE:Europe/Madrid
BEGIN:VEVENT
SUMMARY:Ball a l'Espai Sant Jordi
DTSTART;TZID=Europe/Madrid;VALUE=DATE-TIME:20140201T000000
DTEND;TZID=Europe/Madrid;VALUE=DATE-TIME:20140201T235959
DTSTAMP;VALUE=DATE-TIME:20260425T124604Z
UID:14abeb14a5e0457e8e9fb57155907bbd@www.molletvalles.cat
CATEGORIES:Música\, cine y espectáculos
CREATED;VALUE=DATE-TIME:20131216T092542Z
LAST-MODIFIED;VALUE=DATE-TIME:20221221T234845Z
LOCATION:Espai Sant Jordi (Av. Caldes\, 9)
URL:https://www.molletvalles.cat/es/actualidad/agenda/14838
END:VEVENT
BEGIN:VTIMEZONE
TZID:Europe/Madrid
X-LIC-LOCATION:Europe/Madrid
BEGIN:STANDARD
DTSTART;VALUE=DATE-TIME:20131027T020000
TZNAME:CET
TZOFFSETFROM:+0200
TZOFFSETTO:+0100
END:STANDARD
END:VTIMEZONE
END:VCALENDAR
