BEGIN:VCALENDAR
VERSION:2.0
PRODID:-//Plone.org//NONSGML plone.app.event//EN
X-WR-TIMEZONE:Europe/Madrid
BEGIN:VEVENT
SUMMARY:Exposició: "Llums"\, d'Imanol Ossa
DTSTART;TZID=Europe/Madrid;VALUE=DATE-TIME:20140610T000000
DTEND;TZID=Europe/Madrid;VALUE=DATE-TIME:20140610T235959
DTSTAMP;VALUE=DATE-TIME:20260425T124611Z
UID:ff6e2878bd7f48b094fbdd5f57d2b676@www.molletvalles.cat
CATEGORIES:Exposiciones y ferias
CREATED;VALUE=DATE-TIME:20140128T124522Z
LAST-MODIFIED;VALUE=DATE-TIME:20221221T235256Z
URL:https://www.molletvalles.cat/es/actualidad/agenda/14960
END:VEVENT
BEGIN:VTIMEZONE
TZID:Europe/Madrid
X-LIC-LOCATION:Europe/Madrid
BEGIN:DAYLIGHT
DTSTART;VALUE=DATE-TIME:20140330T030000
TZNAME:CEST
TZOFFSETFROM:+0100
TZOFFSETTO:+0200
END:DAYLIGHT
END:VTIMEZONE
END:VCALENDAR
