BEGIN:VCALENDAR
VERSION:2.0
PRODID:-//Plone.org//NONSGML plone.app.event//EN
X-WR-TIMEZONE:Europe/Madrid
BEGIN:VEVENT
SUMMARY:Ball a l'Espai Sant Jordi
DTSTART;TZID=Europe/Madrid;VALUE=DATE-TIME:20140412T000000
DTEND;TZID=Europe/Madrid;VALUE=DATE-TIME:20140412T235959
DTSTAMP;VALUE=DATE-TIME:20260419T164200Z
UID:753e711fd4be4306b684f624c0b314a8@www.molletvalles.cat
CATEGORIES:Música\, cine y espectáculos
CREATED;VALUE=DATE-TIME:20140219T111151Z
LAST-MODIFIED;VALUE=DATE-TIME:20221221T235523Z
URL:https://www.molletvalles.cat/es/actualidad/agenda/15035
END:VEVENT
BEGIN:VTIMEZONE
TZID:Europe/Madrid
X-LIC-LOCATION:Europe/Madrid
BEGIN:DAYLIGHT
DTSTART;VALUE=DATE-TIME:20140330T030000
TZNAME:CEST
TZOFFSETFROM:+0100
TZOFFSETTO:+0200
END:DAYLIGHT
END:VTIMEZONE
END:VCALENDAR
