BEGIN:VCALENDAR
VERSION:2.0
PRODID:-//Plone.org//NONSGML plone.app.event//EN
X-WR-TIMEZONE:Europe/Madrid
BEGIN:VEVENT
SUMMARY:Cicle de cinema fantàstic i de terror en VOSE: "The Picture Show 
 Cineforum"
DTSTART;TZID=Europe/Madrid;VALUE=DATE-TIME:20140411T000000
DTEND;TZID=Europe/Madrid;VALUE=DATE-TIME:20140411T235959
DTSTAMP;VALUE=DATE-TIME:20260419T181812Z
UID:768b052b5b674a96b46e37b6c8aa82b5@www.molletvalles.cat
CATEGORIES:Música\, cine y espectáculos
CREATED;VALUE=DATE-TIME:20140312T141500Z
LAST-MODIFIED;VALUE=DATE-TIME:20221221T235659Z
URL:https://www.molletvalles.cat/es/actualidad/agenda/15086
END:VEVENT
BEGIN:VTIMEZONE
TZID:Europe/Madrid
X-LIC-LOCATION:Europe/Madrid
BEGIN:DAYLIGHT
DTSTART;VALUE=DATE-TIME:20140330T030000
TZNAME:CEST
TZOFFSETFROM:+0100
TZOFFSETTO:+0200
END:DAYLIGHT
END:VTIMEZONE
END:VCALENDAR
