BEGIN:VCALENDAR
VERSION:2.0
PRODID:-//Plone.org//NONSGML plone.app.event//EN
X-WR-TIMEZONE:Europe/Madrid
BEGIN:VEVENT
SUMMARY:Mollet és Gourmet: Exhibició musical i de dansa gallega
DTSTART;TZID=Europe/Madrid;VALUE=DATE-TIME:20140601T000000
DTEND;TZID=Europe/Madrid;VALUE=DATE-TIME:20140601T235959
DTSTAMP;VALUE=DATE-TIME:20260423T171015Z
UID:17064c9d065d4f7bae9b52478f4be20b@www.molletvalles.cat
CATEGORIES:Exposiciones y ferias
CREATED;VALUE=DATE-TIME:20140527T082532Z
LAST-MODIFIED;VALUE=DATE-TIME:20221222T000641Z
LOCATION:Escenari Plaça Major
URL:https://www.molletvalles.cat/es/actualidad/agenda/15316
END:VEVENT
BEGIN:VTIMEZONE
TZID:Europe/Madrid
X-LIC-LOCATION:Europe/Madrid
BEGIN:DAYLIGHT
DTSTART;VALUE=DATE-TIME:20140330T030000
TZNAME:CEST
TZOFFSETFROM:+0100
TZOFFSETTO:+0200
END:DAYLIGHT
END:VTIMEZONE
END:VCALENDAR
