BEGIN:VCALENDAR
VERSION:2.0
PRODID:-//Plone.org//NONSGML plone.app.event//EN
X-WR-TIMEZONE:Europe/Madrid
BEGIN:VEVENT
SUMMARY:Juguem al Parc (Parc de Can Borrell): Jocs i tallers per a infants
DTSTART;TZID=Europe/Madrid;VALUE=DATE-TIME:20140625T000000
DTEND;TZID=Europe/Madrid;VALUE=DATE-TIME:20140625T235959
DTSTAMP;VALUE=DATE-TIME:20260423T104306Z
UID:106e7bdc52fb4160863798e2a35bc19d@www.molletvalles.cat
CATEGORIES:Infantiles
CREATED;VALUE=DATE-TIME:20140603T104908Z
LAST-MODIFIED;VALUE=DATE-TIME:20221222T000801Z
LOCATION:Parc de Can Borrell
URL:https://www.molletvalles.cat/es/actualidad/agenda/15349
END:VEVENT
BEGIN:VTIMEZONE
TZID:Europe/Madrid
X-LIC-LOCATION:Europe/Madrid
BEGIN:DAYLIGHT
DTSTART;VALUE=DATE-TIME:20140330T030000
TZNAME:CEST
TZOFFSETFROM:+0100
TZOFFSETTO:+0200
END:DAYLIGHT
END:VTIMEZONE
END:VCALENDAR
