BEGIN:VCALENDAR
VERSION:2.0
PRODID:-//Plone.org//NONSGML plone.app.event//EN
X-WR-TIMEZONE:Europe/Madrid
BEGIN:VEVENT
SUMMARY:Activitats infantils a la Plaça Can Borrell
DTSTART;TZID=Europe/Madrid;VALUE=DATE-TIME:20140726T000000
DTEND;TZID=Europe/Madrid;VALUE=DATE-TIME:20140726T235959
DTSTAMP;VALUE=DATE-TIME:20260419T164203Z
UID:36f2b598fbde4081b2a3cf1ee03b822f@www.molletvalles.cat
CATEGORIES:Infantiles
CREATED;VALUE=DATE-TIME:20140619T071343Z
LAST-MODIFIED;VALUE=DATE-TIME:20221222T000944Z
LOCATION:Plaça Can Borrell
URL:https://www.molletvalles.cat/es/actualidad/agenda/15411
END:VEVENT
BEGIN:VTIMEZONE
TZID:Europe/Madrid
X-LIC-LOCATION:Europe/Madrid
BEGIN:DAYLIGHT
DTSTART;VALUE=DATE-TIME:20140330T030000
TZNAME:CEST
TZOFFSETFROM:+0100
TZOFFSETTO:+0200
END:DAYLIGHT
END:VTIMEZONE
END:VCALENDAR
