BEGIN:VCALENDAR
VERSION:2.0
PRODID:-//Plone.org//NONSGML plone.app.event//EN
X-WR-TIMEZONE:Europe/Madrid
BEGIN:VEVENT
SUMMARY:Competició de "break dance" : Festival MadaFunk'it
DTSTART;TZID=Europe/Madrid;VALUE=DATE-TIME:20140705T000000
DTEND;TZID=Europe/Madrid;VALUE=DATE-TIME:20140705T235959
DTSTAMP;VALUE=DATE-TIME:20260425T161930Z
UID:bca920c553054cd99c2b0a414b8a2c4a@www.molletvalles.cat
CATEGORIES:Juveniles
CREATED;VALUE=DATE-TIME:20140701T081827Z
LAST-MODIFIED;VALUE=DATE-TIME:20221222T001024Z
URL:https://www.molletvalles.cat/es/actualidad/agenda/15449
END:VEVENT
BEGIN:VTIMEZONE
TZID:Europe/Madrid
X-LIC-LOCATION:Europe/Madrid
BEGIN:DAYLIGHT
DTSTART;VALUE=DATE-TIME:20140330T030000
TZNAME:CEST
TZOFFSETFROM:+0100
TZOFFSETTO:+0200
END:DAYLIGHT
END:VTIMEZONE
END:VCALENDAR
