BEGIN:VCALENDAR
VERSION:2.0
PRODID:-//Plone.org//NONSGML plone.app.event//EN
X-WR-TIMEZONE:Europe/Madrid
BEGIN:VEVENT
SUMMARY:Festa Major 2014: Peligro Tour\, La Tribu i Mañaneo DJ's
DTSTART;TZID=Europe/Madrid;VALUE=DATE-TIME:20140817T000000
DTEND;TZID=Europe/Madrid;VALUE=DATE-TIME:20140817T235959
DTSTAMP;VALUE=DATE-TIME:20260425T124503Z
UID:f843aa27e2024ca980c31f983b3624e1@www.molletvalles.cat
CATEGORIES:Fiestas populares
CREATED;VALUE=DATE-TIME:20140722T072012Z
LAST-MODIFIED;VALUE=DATE-TIME:20221222T001300Z
LOCATION:Parc de Can Mulà
URL:https://www.molletvalles.cat/es/actualidad/agenda/15512
END:VEVENT
BEGIN:VTIMEZONE
TZID:Europe/Madrid
X-LIC-LOCATION:Europe/Madrid
BEGIN:DAYLIGHT
DTSTART;VALUE=DATE-TIME:20140330T030000
TZNAME:CEST
TZOFFSETFROM:+0100
TZOFFSETTO:+0200
END:DAYLIGHT
END:VTIMEZONE
END:VCALENDAR
