BEGIN:VCALENDAR
VERSION:2.0
PRODID:-//Plone.org//NONSGML plone.app.event//EN
X-WR-TIMEZONE:Europe/Madrid
BEGIN:VEVENT
SUMMARY:Festa Major 2014: Plantada de Gegants\, a càrrec de les Colles ge
 ganteres de Martorelles\, Arenys de Munt\, Caldes de Montbui i Mollet
DTSTART;TZID=Europe/Madrid;VALUE=DATE-TIME:20140817T000000
DTEND;TZID=Europe/Madrid;VALUE=DATE-TIME:20140817T235959
DTSTAMP;VALUE=DATE-TIME:20260419T181820Z
UID:ed626c6f72b942f494dafd3c64b491dc@www.molletvalles.cat
CATEGORIES:Fiestas populares
CREATED;VALUE=DATE-TIME:20140722T105212Z
LAST-MODIFIED;VALUE=DATE-TIME:20221222T001325Z
LOCATION:Parc de les Pruneres
URL:https://www.molletvalles.cat/es/actualidad/agenda/15524
END:VEVENT
BEGIN:VTIMEZONE
TZID:Europe/Madrid
X-LIC-LOCATION:Europe/Madrid
BEGIN:DAYLIGHT
DTSTART;VALUE=DATE-TIME:20140330T030000
TZNAME:CEST
TZOFFSETFROM:+0100
TZOFFSETTO:+0200
END:DAYLIGHT
END:VTIMEZONE
END:VCALENDAR
