BEGIN:VCALENDAR
VERSION:2.0
PRODID:-//Plone.org//NONSGML plone.app.event//EN
X-WR-TIMEZONE:Europe/Madrid
BEGIN:VEVENT
SUMMARY:Festa Major 2014: Cercavila de Gegants
DTSTART;TZID=Europe/Madrid;VALUE=DATE-TIME:20140817T000000
DTEND;TZID=Europe/Madrid;VALUE=DATE-TIME:20140817T235959
DTSTAMP;VALUE=DATE-TIME:20260423T152748Z
UID:89e6c7f1c25a4662b07f35bec6c9e4d7@www.molletvalles.cat
CATEGORIES:Fiestas populares
CREATED;VALUE=DATE-TIME:20140722T110657Z
LAST-MODIFIED;VALUE=DATE-TIME:20221222T001327Z
URL:https://www.molletvalles.cat/es/actualidad/agenda/15525
END:VEVENT
BEGIN:VTIMEZONE
TZID:Europe/Madrid
X-LIC-LOCATION:Europe/Madrid
BEGIN:DAYLIGHT
DTSTART;VALUE=DATE-TIME:20140330T030000
TZNAME:CEST
TZOFFSETFROM:+0100
TZOFFSETTO:+0200
END:DAYLIGHT
END:VTIMEZONE
END:VCALENDAR
