BEGIN:VCALENDAR
VERSION:2.0
PRODID:-//Plone.org//NONSGML plone.app.event//EN
X-WR-TIMEZONE:Europe/Madrid
BEGIN:VEVENT
SUMMARY:Festa Major 2014: Cursa en roba interior
DTSTART;TZID=Europe/Madrid;VALUE=DATE-TIME:20140818T000000
DTEND;TZID=Europe/Madrid;VALUE=DATE-TIME:20140818T235959
DTSTAMP;VALUE=DATE-TIME:20260423T170833Z
UID:8375fb9a05b14aeead7f458a12040e7a@www.molletvalles.cat
CATEGORIES:Fiestas populares
CREATED;VALUE=DATE-TIME:20140723T072204Z
LAST-MODIFIED;VALUE=DATE-TIME:20221222T001413Z
LOCATION:Avinguda Llibertat
URL:https://www.molletvalles.cat/es/actualidad/agenda/15546
END:VEVENT
BEGIN:VTIMEZONE
TZID:Europe/Madrid
X-LIC-LOCATION:Europe/Madrid
BEGIN:DAYLIGHT
DTSTART;VALUE=DATE-TIME:20140330T030000
TZNAME:CEST
TZOFFSETFROM:+0100
TZOFFSETTO:+0200
END:DAYLIGHT
END:VTIMEZONE
END:VCALENDAR
