BEGIN:VCALENDAR
VERSION:2.0
PRODID:-//Plone.org//NONSGML plone.app.event//EN
X-WR-TIMEZONE:Europe/Madrid
BEGIN:VEVENT
SUMMARY:Xerrada: "Els grafits\, un art d'avantguarda"\, a càrrec de Manu 
 Montaño Ramos\, artista
DTSTART;TZID=Europe/Madrid;VALUE=DATE-TIME:20141124T000000
DTEND;TZID=Europe/Madrid;VALUE=DATE-TIME:20141124T235959
DTSTAMP;VALUE=DATE-TIME:20260419T164203Z
UID:9854432fa23c4cceaa9c459f1b95d912@www.molletvalles.cat
CATEGORIES:Conferencias
CREATED;VALUE=DATE-TIME:20141013T114824Z
LAST-MODIFIED;VALUE=DATE-TIME:20221222T002158Z
URL:https://www.molletvalles.cat/es/actualidad/agenda/15737
END:VEVENT
BEGIN:VTIMEZONE
TZID:Europe/Madrid
X-LIC-LOCATION:Europe/Madrid
BEGIN:STANDARD
DTSTART;VALUE=DATE-TIME:20141026T020000
TZNAME:CET
TZOFFSETFROM:+0200
TZOFFSETTO:+0100
END:STANDARD
END:VTIMEZONE
END:VCALENDAR
