BEGIN:VCALENDAR
VERSION:2.0
PRODID:-//Plone.org//NONSGML plone.app.event//EN
X-WR-TIMEZONE:Europe/Madrid
BEGIN:VEVENT
SUMMARY:II Jornades Familiars de Jocs de Taula (de 4 fins a 104 anys)
DTSTART;TZID=Europe/Madrid;VALUE=DATE-TIME:20141206T000000
DTEND;TZID=Europe/Madrid;VALUE=DATE-TIME:20141206T235959
DTSTAMP;VALUE=DATE-TIME:20260425T124610Z
UID:8e27ab4d485c4a85aaf0ff3f3c218a79@www.molletvalles.cat
CATEGORIES:Actos diversos
CREATED;VALUE=DATE-TIME:20141022T113337Z
LAST-MODIFIED;VALUE=DATE-TIME:20221222T002309Z
URL:https://www.molletvalles.cat/es/actualidad/agenda/15774
END:VEVENT
BEGIN:VTIMEZONE
TZID:Europe/Madrid
X-LIC-LOCATION:Europe/Madrid
BEGIN:STANDARD
DTSTART;VALUE=DATE-TIME:20141026T020000
TZNAME:CET
TZOFFSETFROM:+0200
TZOFFSETTO:+0100
END:STANDARD
END:VTIMEZONE
END:VCALENDAR
