BEGIN:VCALENDAR
VERSION:2.0
PRODID:-//Plone.org//NONSGML plone.app.event//EN
X-WR-TIMEZONE:Europe/Madrid
BEGIN:VEVENT
SUMMARY:V Jornada de Voluntariat Social a Mollet
DTSTART;TZID=Europe/Madrid;VALUE=DATE-TIME:20141204T000000
DTEND;TZID=Europe/Madrid;VALUE=DATE-TIME:20141204T235959
DTSTAMP;VALUE=DATE-TIME:20260419T164202Z
UID:219723b82d3b48b1b72436cee39152b8@www.molletvalles.cat
CATEGORIES:Conferencias
CREATED;VALUE=DATE-TIME:20141124T075625Z
LAST-MODIFIED;VALUE=DATE-TIME:20221222T002726Z
URL:https://www.molletvalles.cat/es/actualidad/agenda/15890
END:VEVENT
BEGIN:VTIMEZONE
TZID:Europe/Madrid
X-LIC-LOCATION:Europe/Madrid
BEGIN:STANDARD
DTSTART;VALUE=DATE-TIME:20141026T020000
TZNAME:CET
TZOFFSETFROM:+0200
TZOFFSETTO:+0100
END:STANDARD
END:VTIMEZONE
END:VCALENDAR
