BEGIN:VCALENDAR
VERSION:2.0
PRODID:-//Plone.org//NONSGML plone.app.event//EN
X-WR-TIMEZONE:Europe/Madrid
BEGIN:VEVENT
SUMMARY:Taller infantil: Nadal al Museu
DTSTART;TZID=Europe/Madrid;VALUE=DATE-TIME:20140102T000000
DTEND;TZID=Europe/Madrid;VALUE=DATE-TIME:20140102T235959
DTSTAMP;VALUE=DATE-TIME:20260423T171032Z
UID:f40c6f7280d94ff4b050db824be34201@www.molletvalles.cat
CATEGORIES:Cursos y talleres
CREATED;VALUE=DATE-TIME:20141201T134707Z
LAST-MODIFIED;VALUE=DATE-TIME:20221222T002818Z
URL:https://www.molletvalles.cat/es/actualidad/agenda/15916
END:VEVENT
BEGIN:VTIMEZONE
TZID:Europe/Madrid
X-LIC-LOCATION:Europe/Madrid
BEGIN:STANDARD
DTSTART;VALUE=DATE-TIME:20131027T020000
TZNAME:CET
TZOFFSETFROM:+0200
TZOFFSETTO:+0100
END:STANDARD
END:VTIMEZONE
END:VCALENDAR
