BEGIN:VCALENDAR
VERSION:2.0
PRODID:-//Plone.org//NONSGML plone.app.event//EN
X-WR-TIMEZONE:Europe/Madrid
BEGIN:VEVENT
SUMMARY:Concert a la Sala Fiveller:  Grup Mexicà "Sonósfera"
DTSTART;TZID=Europe/Madrid;VALUE=DATE-TIME:20150117T000000
DTEND;TZID=Europe/Madrid;VALUE=DATE-TIME:20150117T235959
DTSTAMP;VALUE=DATE-TIME:20260425T124604Z
UID:fc920edc78ba4541b217c753227927ae@www.molletvalles.cat
CATEGORIES:Música\, cine y espectáculos
CREATED;VALUE=DATE-TIME:20150113T122424Z
LAST-MODIFIED;VALUE=DATE-TIME:20221222T003146Z
URL:https://www.molletvalles.cat/es/actualidad/agenda/16013
END:VEVENT
BEGIN:VTIMEZONE
TZID:Europe/Madrid
X-LIC-LOCATION:Europe/Madrid
BEGIN:STANDARD
DTSTART;VALUE=DATE-TIME:20141026T020000
TZNAME:CET
TZOFFSETFROM:+0200
TZOFFSETTO:+0100
END:STANDARD
END:VTIMEZONE
END:VCALENDAR
