BEGIN:VCALENDAR
VERSION:2.0
PRODID:-//Plone.org//NONSGML plone.app.event//EN
X-WR-TIMEZONE:Europe/Madrid
BEGIN:VEVENT
SUMMARY:Inauguració de l'exposició i projecció del documental "Batec de
  telers. Vivències del tèxtil a Mollet del Vallès"
DTSTART;TZID=Europe/Madrid;VALUE=DATE-TIME:20150514T000000
DTEND;TZID=Europe/Madrid;VALUE=DATE-TIME:20150514T235959
DTSTAMP;VALUE=DATE-TIME:20260421T174250Z
UID:9ea69a9ccbe14edeba23829f7871836d@www.molletvalles.cat
CATEGORIES:Exposiciones y ferias
CREATED;VALUE=DATE-TIME:20150120T124845Z
LAST-MODIFIED;VALUE=DATE-TIME:20221222T003230Z
URL:https://www.molletvalles.cat/es/actualidad/agenda/16033
END:VEVENT
BEGIN:VTIMEZONE
TZID:Europe/Madrid
X-LIC-LOCATION:Europe/Madrid
BEGIN:DAYLIGHT
DTSTART;VALUE=DATE-TIME:20150329T030000
TZNAME:CEST
TZOFFSETFROM:+0100
TZOFFSETTO:+0200
END:DAYLIGHT
END:VTIMEZONE
END:VCALENDAR
