BEGIN:VCALENDAR
VERSION:2.0
PRODID:-//Plone.org//NONSGML plone.app.event//EN
X-WR-TIMEZONE:Europe/Madrid
BEGIN:VEVENT
SUMMARY:Dia del Soci de Tradicions i Costums
DTSTART;TZID=Europe/Madrid;VALUE=DATE-TIME:20151018T000000
DTEND;TZID=Europe/Madrid;VALUE=DATE-TIME:20151018T235959
DTSTAMP;VALUE=DATE-TIME:20260419T164229Z
UID:01f5c067b5d14f03a9a3b0cd12f51297@www.molletvalles.cat
CATEGORIES:Música\, cine y espectáculos
CREATED;VALUE=DATE-TIME:20150413T062957Z
LAST-MODIFIED;VALUE=DATE-TIME:20221222T004115Z
LOCATION:Plaça Catalunya
URL:https://www.molletvalles.cat/es/actualidad/agenda/16381
END:VEVENT
BEGIN:VTIMEZONE
TZID:Europe/Madrid
X-LIC-LOCATION:Europe/Madrid
BEGIN:DAYLIGHT
DTSTART;VALUE=DATE-TIME:20150329T030000
TZNAME:CEST
TZOFFSETFROM:+0100
TZOFFSETTO:+0200
END:DAYLIGHT
END:VTIMEZONE
END:VCALENDAR
