BEGIN:VCALENDAR
VERSION:2.0
PRODID:-//Plone.org//NONSGML plone.app.event//EN
X-WR-TIMEZONE:Europe/Madrid
BEGIN:VEVENT
SUMMARY:Festa Major 2015: Nomenament del Morat i Torrat d'Honor 2015
DTSTART;TZID=Europe/Madrid;VALUE=DATE-TIME:20150815T000000
DTEND;TZID=Europe/Madrid;VALUE=DATE-TIME:20150815T235959
DTSTAMP;VALUE=DATE-TIME:20260425T124604Z
UID:cd461becf32e4d2195eec4f21dcae852@www.molletvalles.cat
CATEGORIES:Fiestas populares
CREATED;VALUE=DATE-TIME:20150721T101435Z
LAST-MODIFIED;VALUE=DATE-TIME:20221222T004320Z
LOCATION:Plaça Prat de la Riba
URL:https://www.molletvalles.cat/es/actualidad/agenda/16552
END:VEVENT
BEGIN:VTIMEZONE
TZID:Europe/Madrid
X-LIC-LOCATION:Europe/Madrid
BEGIN:DAYLIGHT
DTSTART;VALUE=DATE-TIME:20150329T030000
TZNAME:CEST
TZOFFSETFROM:+0100
TZOFFSETTO:+0200
END:DAYLIGHT
END:VTIMEZONE
END:VCALENDAR
