BEGIN:VCALENDAR
VERSION:2.0
PRODID:-//Plone.org//NONSGML plone.app.event//EN
X-WR-TIMEZONE:Europe/Madrid
BEGIN:VEVENT
SUMMARY:Festa de la Solidaritat 2015: Parada solidària de l'Associació d
 e dones CREA
DTSTART;TZID=Europe/Madrid;VALUE=DATE-TIME:20150918T000000
DTEND;TZID=Europe/Madrid;VALUE=DATE-TIME:20150918T235959
DTSTAMP;VALUE=DATE-TIME:20260425T123109Z
UID:289867577359436db5bdd635aed6fb5f@www.molletvalles.cat
CATEGORIES:Actos diversos
CREATED;VALUE=DATE-TIME:20150908T102616Z
LAST-MODIFIED;VALUE=DATE-TIME:20221222T004417Z
LOCATION:C. Gaietà Ventalló
URL:https://www.molletvalles.cat/es/actualidad/agenda/16658
END:VEVENT
BEGIN:VTIMEZONE
TZID:Europe/Madrid
X-LIC-LOCATION:Europe/Madrid
BEGIN:DAYLIGHT
DTSTART;VALUE=DATE-TIME:20150329T030000
TZNAME:CEST
TZOFFSETFROM:+0100
TZOFFSETTO:+0200
END:DAYLIGHT
END:VTIMEZONE
END:VCALENDAR
