BEGIN:VCALENDAR
VERSION:2.0
PRODID:-//Plone.org//NONSGML plone.app.event//EN
X-WR-TIMEZONE:Europe/Madrid
BEGIN:VEVENT
SUMMARY:Itinerari per Barcelona: La cara oculta de Gràcia
DTSTART;TZID=Europe/Madrid;VALUE=DATE-TIME:20151010T000000
DTEND;TZID=Europe/Madrid;VALUE=DATE-TIME:20151010T235959
DTSTAMP;VALUE=DATE-TIME:20260425T123042Z
UID:252f045c03214f928f5e3343b109d4b1@www.molletvalles.cat
CATEGORIES:Salidas y excursiones
CREATED;VALUE=DATE-TIME:20150921T085125Z
LAST-MODIFIED;VALUE=DATE-TIME:20221222T004442Z
URL:https://www.molletvalles.cat/es/actualidad/agenda/16699
END:VEVENT
BEGIN:VTIMEZONE
TZID:Europe/Madrid
X-LIC-LOCATION:Europe/Madrid
BEGIN:DAYLIGHT
DTSTART;VALUE=DATE-TIME:20150329T030000
TZNAME:CEST
TZOFFSETFROM:+0100
TZOFFSETTO:+0200
END:DAYLIGHT
END:VTIMEZONE
END:VCALENDAR
