BEGIN:VCALENDAR
VERSION:2.0
PRODID:-//Plone.org//NONSGML plone.app.event//EN
X-WR-TIMEZONE:Europe/Madrid
BEGIN:VEVENT
SUMMARY:XII Aniversari del Club Social Amigos del Rock Imperiales
DTSTART;TZID=Europe/Madrid;VALUE=DATE-TIME:20151017T000000
DTEND;TZID=Europe/Madrid;VALUE=DATE-TIME:20151017T235959
DTSTAMP;VALUE=DATE-TIME:20260423T171015Z
UID:7c05e8a5037945c6a77937a9fc91fd36@www.molletvalles.cat
CATEGORIES:Música\, cine y espectáculos
CREATED;VALUE=DATE-TIME:20151005T121333Z
LAST-MODIFIED;VALUE=DATE-TIME:20221222T004507Z
LOCATION:Carrer Alsina\, 22
URL:https://www.molletvalles.cat/es/actualidad/agenda/16734
END:VEVENT
BEGIN:VTIMEZONE
TZID:Europe/Madrid
X-LIC-LOCATION:Europe/Madrid
BEGIN:DAYLIGHT
DTSTART;VALUE=DATE-TIME:20150329T030000
TZNAME:CEST
TZOFFSETFROM:+0100
TZOFFSETTO:+0200
END:DAYLIGHT
END:VTIMEZONE
END:VCALENDAR
