BEGIN:VCALENDAR
VERSION:2.0
PRODID:-//Plone.org//NONSGML plone.app.event//EN
X-WR-TIMEZONE:Europe/Madrid
BEGIN:VEVENT
SUMMARY:Conferència: Aproximació a la crisi dels refugiats a Europa: Con
 text general i resposta des dels municipis
DTSTART;TZID=Europe/Madrid;VALUE=DATE-TIME:20151028T000000
DTEND;TZID=Europe/Madrid;VALUE=DATE-TIME:20151028T235959
DTSTAMP;VALUE=DATE-TIME:20260421T174536Z
UID:31e0ddf5d0cc4be9814477acf7530b3f@www.molletvalles.cat
CATEGORIES:Conferencias
CREATED;VALUE=DATE-TIME:20151014T110305Z
LAST-MODIFIED;VALUE=DATE-TIME:20221222T004539Z
URL:https://www.molletvalles.cat/es/actualidad/agenda/16763
END:VEVENT
BEGIN:VTIMEZONE
TZID:Europe/Madrid
X-LIC-LOCATION:Europe/Madrid
BEGIN:STANDARD
DTSTART;VALUE=DATE-TIME:20151025T020000
TZNAME:CET
TZOFFSETFROM:+0200
TZOFFSETTO:+0100
END:STANDARD
END:VTIMEZONE
END:VCALENDAR
