BEGIN:VCALENDAR
VERSION:2.0
PRODID:-//Plone.org//NONSGML plone.app.event//EN
X-WR-TIMEZONE:Europe/Madrid
BEGIN:VEVENT
SUMMARY:9è Intercanvi General
DTSTART;TZID=Europe/Madrid;VALUE=DATE-TIME:20161120T000000
DTEND;TZID=Europe/Madrid;VALUE=DATE-TIME:20161120T235959
DTSTAMP;VALUE=DATE-TIME:20260421T173035Z
UID:4476fb5ee8664355a00755166a3ddf56@www.molletvalles.cat
CATEGORIES:Exposiciones y ferias
CREATED;VALUE=DATE-TIME:20151120T111436Z
LAST-MODIFIED;VALUE=DATE-TIME:20221222T004809Z
URL:https://www.molletvalles.cat/es/actualidad/agenda/16884
END:VEVENT
BEGIN:VTIMEZONE
TZID:Europe/Madrid
X-LIC-LOCATION:Europe/Madrid
BEGIN:STANDARD
DTSTART;VALUE=DATE-TIME:20161030T020000
TZNAME:CET
TZOFFSETFROM:+0200
TZOFFSETTO:+0100
END:STANDARD
END:VTIMEZONE
END:VCALENDAR
