BEGIN:VCALENDAR
VERSION:2.0
PRODID:-//Plone.org//NONSGML plone.app.event//EN
X-WR-TIMEZONE:Europe/Madrid
BEGIN:VEVENT
SUMMARY:Dia Internacional de les Persones amb Discapacitat: Concert de Nad
 al a càrrec dels nois i noies de la Llar Alb-bosc
DTSTART;TZID=Europe/Madrid;VALUE=DATE-TIME:20151211T000000
DTEND;TZID=Europe/Madrid;VALUE=DATE-TIME:20151211T235959
DTSTAMP;VALUE=DATE-TIME:20260419T181811Z
UID:1f3c5a2cead74f5fa1e1670ec44d1370@www.molletvalles.cat
CATEGORIES:Música\, cine y espectáculos
CREATED;VALUE=DATE-TIME:20151126T111316Z
LAST-MODIFIED;VALUE=DATE-TIME:20221222T004844Z
URL:https://www.molletvalles.cat/es/actualidad/agenda/16913
END:VEVENT
BEGIN:VTIMEZONE
TZID:Europe/Madrid
X-LIC-LOCATION:Europe/Madrid
BEGIN:STANDARD
DTSTART;VALUE=DATE-TIME:20151025T020000
TZNAME:CET
TZOFFSETFROM:+0200
TZOFFSETTO:+0100
END:STANDARD
END:VTIMEZONE
END:VCALENDAR
