BEGIN:VCALENDAR
VERSION:2.0
PRODID:-//Plone.org//NONSGML plone.app.event//EN
X-WR-TIMEZONE:Europe/Madrid
BEGIN:VEVENT
SUMMARY:Activitats infantils solidàries
DTSTART;TZID=Europe/Madrid;VALUE=DATE-TIME:20151213T000000
DTEND;TZID=Europe/Madrid;VALUE=DATE-TIME:20151213T235959
DTSTAMP;VALUE=DATE-TIME:20260419T181814Z
UID:9a38f7e0314b4c52b339804dbb0d19d4@www.molletvalles.cat
CATEGORIES:Infantiles
CREATED;VALUE=DATE-TIME:20151126T131950Z
LAST-MODIFIED;VALUE=DATE-TIME:20221222T004849Z
URL:https://www.molletvalles.cat/es/actualidad/agenda/16919
END:VEVENT
BEGIN:VTIMEZONE
TZID:Europe/Madrid
X-LIC-LOCATION:Europe/Madrid
BEGIN:STANDARD
DTSTART;VALUE=DATE-TIME:20151025T020000
TZNAME:CET
TZOFFSETFROM:+0200
TZOFFSETTO:+0100
END:STANDARD
END:VTIMEZONE
END:VCALENDAR
