BEGIN:VCALENDAR
VERSION:2.0
PRODID:-//Plone.org//NONSGML plone.app.event//EN
X-WR-TIMEZONE:Europe/Madrid
BEGIN:VEVENT
SUMMARY:I els divendres\, Què?: "Jocs de nit"
DTSTART;TZID=Europe/Madrid;VALUE=DATE-TIME:20160318T000000
DTEND;TZID=Europe/Madrid;VALUE=DATE-TIME:20160318T235959
DTSTAMP;VALUE=DATE-TIME:20260423T104340Z
UID:f62e415514534b68b6f5337e9cb054f5@www.molletvalles.cat
CATEGORIES:Juveniles
CREATED;VALUE=DATE-TIME:20160302T090139Z
LAST-MODIFIED;VALUE=DATE-TIME:20221222T005629Z
URL:https://www.molletvalles.cat/es/actualidad/agenda/17213
END:VEVENT
BEGIN:VTIMEZONE
TZID:Europe/Madrid
X-LIC-LOCATION:Europe/Madrid
BEGIN:STANDARD
DTSTART;VALUE=DATE-TIME:20151025T020000
TZNAME:CET
TZOFFSETFROM:+0200
TZOFFSETTO:+0100
END:STANDARD
END:VTIMEZONE
END:VCALENDAR
