BEGIN:VCALENDAR
VERSION:2.0
PRODID:-//Plone.org//NONSGML plone.app.event//EN
X-WR-TIMEZONE:Europe/Madrid
BEGIN:VEVENT
SUMMARY:Trofeu Ciutat de Mollet de Patinatge Artístic
DTSTART;TZID=Europe/Madrid;VALUE=DATE-TIME:20160430T000000
DTEND;TZID=Europe/Madrid;VALUE=DATE-TIME:20160430T235959
DTSTAMP;VALUE=DATE-TIME:20260423T104308Z
UID:a2b84bfd7d5c446c8dde718908d6d26b@www.molletvalles.cat
CATEGORIES:Deportes
CREATED;VALUE=DATE-TIME:20160304T111017Z
LAST-MODIFIED;VALUE=DATE-TIME:20221222T005652Z
URL:https://www.molletvalles.cat/es/actualidad/agenda/17224
END:VEVENT
BEGIN:VTIMEZONE
TZID:Europe/Madrid
X-LIC-LOCATION:Europe/Madrid
BEGIN:DAYLIGHT
DTSTART;VALUE=DATE-TIME:20160327T030000
TZNAME:CEST
TZOFFSETFROM:+0100
TZOFFSETTO:+0200
END:DAYLIGHT
END:VTIMEZONE
END:VCALENDAR
