BEGIN:VCALENDAR
VERSION:2.0
PRODID:-//Plone.org//NONSGML plone.app.event//EN
X-WR-TIMEZONE:Europe/Madrid
BEGIN:VEVENT
SUMMARY:Teatre: "Històries d'amor i odi" de Joaquín Martos
DTSTART;TZID=Europe/Madrid;VALUE=DATE-TIME:20160702T000000
DTEND;TZID=Europe/Madrid;VALUE=DATE-TIME:20160702T235959
DTSTAMP;VALUE=DATE-TIME:20260425T123038Z
UID:c645dd86f7c24e8bb902b4b944b76593@www.molletvalles.cat
CATEGORIES:Música\, cine y espectáculos
CREATED;VALUE=DATE-TIME:20160623T082249Z
LAST-MODIFIED;VALUE=DATE-TIME:20221222T010841Z
URL:https://www.molletvalles.cat/es/actualidad/agenda/17505
END:VEVENT
BEGIN:VTIMEZONE
TZID:Europe/Madrid
X-LIC-LOCATION:Europe/Madrid
BEGIN:DAYLIGHT
DTSTART;VALUE=DATE-TIME:20160327T030000
TZNAME:CEST
TZOFFSETFROM:+0100
TZOFFSETTO:+0200
END:DAYLIGHT
END:VTIMEZONE
END:VCALENDAR
