BEGIN:VCALENDAR
VERSION:2.0
PRODID:-//Plone.org//NONSGML plone.app.event//EN
X-WR-TIMEZONE:Europe/Madrid
BEGIN:VEVENT
SUMMARY:Festa Major 2016: Fes l'arbre de Nadal - Posa't Morat Infantil (gi
 mcana infantil)
DTSTART;TZID=Europe/Madrid;VALUE=DATE-TIME:20160816T000000
DTEND;TZID=Europe/Madrid;VALUE=DATE-TIME:20160816T235959
DTSTAMP;VALUE=DATE-TIME:20260425T124604Z
UID:4071a33287ad40228861ba5bbef9a09b@www.molletvalles.cat
CATEGORIES:Fiestas populares
CREATED;VALUE=DATE-TIME:20160720T122823Z
LAST-MODIFIED;VALUE=DATE-TIME:20221222T011107Z
LOCATION:Parc de les Pruneres
URL:https://www.molletvalles.cat/es/actualidad/agenda/17562
END:VEVENT
BEGIN:VTIMEZONE
TZID:Europe/Madrid
X-LIC-LOCATION:Europe/Madrid
BEGIN:DAYLIGHT
DTSTART;VALUE=DATE-TIME:20160327T030000
TZNAME:CEST
TZOFFSETFROM:+0100
TZOFFSETTO:+0200
END:DAYLIGHT
END:VTIMEZONE
END:VCALENDAR
