BEGIN:VCALENDAR
VERSION:2.0
PRODID:-//Plone.org//NONSGML plone.app.event//EN
X-WR-TIMEZONE:Europe/Madrid
BEGIN:VEVENT
SUMMARY:Festa Major 2016: Passejada en bicicleta
DTSTART;TZID=Europe/Madrid;VALUE=DATE-TIME:20160821T000000
DTEND;TZID=Europe/Madrid;VALUE=DATE-TIME:20160821T235959
DTSTAMP;VALUE=DATE-TIME:20260425T124612Z
UID:f03805656e2c4660aaeac83580d76cc4@www.molletvalles.cat
CATEGORIES:Deportes
CREATED;VALUE=DATE-TIME:20160725T083609Z
LAST-MODIFIED;VALUE=DATE-TIME:20221222T011333Z
URL:https://www.molletvalles.cat/es/actualidad/agenda/17617
END:VEVENT
BEGIN:VTIMEZONE
TZID:Europe/Madrid
X-LIC-LOCATION:Europe/Madrid
BEGIN:DAYLIGHT
DTSTART;VALUE=DATE-TIME:20160327T030000
TZNAME:CEST
TZOFFSETFROM:+0100
TZOFFSETTO:+0200
END:DAYLIGHT
END:VTIMEZONE
END:VCALENDAR
