BEGIN:VCALENDAR
VERSION:2.0
PRODID:-//Plone.org//NONSGML plone.app.event//EN
X-WR-TIMEZONE:Europe/Madrid
BEGIN:VEVENT
SUMMARY:Concert musical cristià 
DTSTART;TZID=Europe/Madrid;VALUE=DATE-TIME:20161008T000000
DTEND;TZID=Europe/Madrid;VALUE=DATE-TIME:20161008T235959
DTSTAMP;VALUE=DATE-TIME:20260425T124603Z
UID:d955464685db43aea2af48769a9de557@www.molletvalles.cat
CATEGORIES:Música\, cine y espectáculos
CREATED;VALUE=DATE-TIME:20160921T080737Z
LAST-MODIFIED;VALUE=DATE-TIME:20221222T011839Z
LOCATION:Parc de Can Mulà
URL:https://www.molletvalles.cat/es/actualidad/agenda/17728
END:VEVENT
BEGIN:VTIMEZONE
TZID:Europe/Madrid
X-LIC-LOCATION:Europe/Madrid
BEGIN:DAYLIGHT
DTSTART;VALUE=DATE-TIME:20160327T030000
TZNAME:CEST
TZOFFSETFROM:+0100
TZOFFSETTO:+0200
END:DAYLIGHT
END:VTIMEZONE
END:VCALENDAR
