BEGIN:VCALENDAR
VERSION:2.0
PRODID:-//Plone.org//NONSGML plone.app.event//EN
X-WR-TIMEZONE:Europe/Madrid
BEGIN:VEVENT
SUMMARY:Club de lectura: "Cendra per Martina" de Manuel Pedrolo
DTSTART;TZID=Europe/Madrid;VALUE=DATE-TIME:20161004T000000
DTEND;TZID=Europe/Madrid;VALUE=DATE-TIME:20161004T235959
DTSTAMP;VALUE=DATE-TIME:20260419T164201Z
UID:5b8963c526c24a02b588a54f512c69e0@www.molletvalles.cat
CATEGORIES:Conferencias
CREATED;VALUE=DATE-TIME:20160930T082946Z
LAST-MODIFIED;VALUE=DATE-TIME:20221222T012023Z
URL:https://www.molletvalles.cat/es/actualidad/agenda/17767
END:VEVENT
BEGIN:VTIMEZONE
TZID:Europe/Madrid
X-LIC-LOCATION:Europe/Madrid
BEGIN:DAYLIGHT
DTSTART;VALUE=DATE-TIME:20160327T030000
TZNAME:CEST
TZOFFSETFROM:+0100
TZOFFSETTO:+0200
END:DAYLIGHT
END:VTIMEZONE
END:VCALENDAR
