BEGIN:VCALENDAR
VERSION:2.0
PRODID:-//Plone.org//NONSGML plone.app.event//EN
X-WR-TIMEZONE:Europe/Madrid
BEGIN:VEVENT
SUMMARY:Xerrada:" Vida + Positiva"\, a càrrec de l'Elisabet Rebollo
DTSTART;TZID=Europe/Madrid;VALUE=DATE-TIME:20161014T000000
DTEND;TZID=Europe/Madrid;VALUE=DATE-TIME:20161014T235959
DTSTAMP;VALUE=DATE-TIME:20260419T181816Z
UID:0c6e1ad2ced54fc792d1a42800e89cbc@www.molletvalles.cat
CATEGORIES:Conferencias
CREATED;VALUE=DATE-TIME:20161010T070554Z
LAST-MODIFIED;VALUE=DATE-TIME:20221222T012134Z
URL:https://www.molletvalles.cat/es/actualidad/agenda/17792
END:VEVENT
BEGIN:VTIMEZONE
TZID:Europe/Madrid
X-LIC-LOCATION:Europe/Madrid
BEGIN:DAYLIGHT
DTSTART;VALUE=DATE-TIME:20160327T030000
TZNAME:CEST
TZOFFSETFROM:+0100
TZOFFSETTO:+0200
END:DAYLIGHT
END:VTIMEZONE
END:VCALENDAR
