BEGIN:VCALENDAR
VERSION:2.0
PRODID:-//Plone.org//NONSGML plone.app.event//EN
X-WR-TIMEZONE:Europe/Madrid
BEGIN:VEVENT
SUMMARY:Teatre familiar: "Tut-tururut la princesa!"\, a càrrec de la Cia 
 La Bleda
DTSTART;TZID=Europe/Madrid;VALUE=DATE-TIME:20170219T000000
DTEND;TZID=Europe/Madrid;VALUE=DATE-TIME:20170219T235959
DTSTAMP;VALUE=DATE-TIME:20260425T124503Z
UID:aa7f5ca0f8364f7da8fcc6f3f72618cb@www.molletvalles.cat
CATEGORIES:Música\, cine y espectáculos
CREATED;VALUE=DATE-TIME:20161110T094250Z
LAST-MODIFIED;VALUE=DATE-TIME:20221222T012514Z
URL:https://www.molletvalles.cat/es/actualidad/agenda/17868
END:VEVENT
BEGIN:VTIMEZONE
TZID:Europe/Madrid
X-LIC-LOCATION:Europe/Madrid
BEGIN:STANDARD
DTSTART;VALUE=DATE-TIME:20161030T020000
TZNAME:CET
TZOFFSETFROM:+0200
TZOFFSETTO:+0100
END:STANDARD
END:VTIMEZONE
END:VCALENDAR
