BEGIN:VCALENDAR
VERSION:2.0
PRODID:-//Plone.org//NONSGML plone.app.event//EN
X-WR-TIMEZONE:Europe/Madrid
BEGIN:VEVENT
SUMMARY:Sant Vicenç 2017: XVIII Cursa Popular de Sant Vicenç. 7è Memori
 al Jordi Solé Tura
DTSTART;TZID=Europe/Madrid;VALUE=DATE-TIME:20170115T000000
DTEND;TZID=Europe/Madrid;VALUE=DATE-TIME:20170115T235959
DTSTAMP;VALUE=DATE-TIME:20260425T161900Z
UID:7ec28618ca184cdda7a6443106283b0d@www.molletvalles.cat
CATEGORIES:Deportes
CREATED;VALUE=DATE-TIME:20161220T091048Z
LAST-MODIFIED;VALUE=DATE-TIME:20221222T013030Z
URL:https://www.molletvalles.cat/es/actualidad/agenda/18005
END:VEVENT
BEGIN:VTIMEZONE
TZID:Europe/Madrid
X-LIC-LOCATION:Europe/Madrid
BEGIN:STANDARD
DTSTART;VALUE=DATE-TIME:20161030T020000
TZNAME:CET
TZOFFSETFROM:+0200
TZOFFSETTO:+0100
END:STANDARD
END:VTIMEZONE
END:VCALENDAR
